BEGIN:VCALENDAR
VERSION:2.0
PRODID:-//Tourism Industry Association of the Yukon - ECPv6.15.20//NONSGML v1.0//EN
CALSCALE:GREGORIAN
METHOD:PUBLISH
X-WR-CALNAME:Tourism Industry Association of the Yukon
X-ORIGINAL-URL:https://tiayukon.com
X-WR-CALDESC:Events for Tourism Industry Association of the Yukon
REFRESH-INTERVAL;VALUE=DURATION:PT1H
X-Robots-Tag:noindex
X-PUBLISHED-TTL:PT1H
BEGIN:VTIMEZONE
TZID:America/Whitehorse
BEGIN:STANDARD
TZOFFSETFROM:-0700
TZOFFSETTO:-0700
TZNAME:MST
DTSTART:20250101T000000
END:STANDARD
END:VTIMEZONE
BEGIN:VEVENT
DTSTART;VALUE=DATE:20260420
DTEND;VALUE=DATE:20260425
DTSTAMP:20260420T015754
CREATED:20260401T223117Z
LAST-MODIFIED:20260401T223117Z
UID:10034-1776643200-1777075199@tiayukon.com
SUMMARY:National Tourism Week
DESCRIPTION:National Tourism Week is a coordinated advocacy week led by the Tourism Industry Association of Canada. The social media campaign aims to raise awareness of tourism’s economic and cultural value in Canada and advocate for its prioritization. \nBy participating\, you help ensure Canadians\, visitors\, and all levels of Canadian government recognize the power of tourism as: \n\n\na major economic driver\,\na source of community vitality across the country\,\na connector through meetings\, events\, sport tourism\, and business travel\,\nan export sector that brings international spending into Canada\,\na contributor to unity\, shared identity\, pride\, and culture (especially Indigenous-led tourism)\, and\na reason for Canadians to support Canadian communities through the Travel in Canada Pledge (Thursday).
URL:https://tiayukon.com/event/national-tourism-week/
END:VEVENT
END:VCALENDAR